BEGIN:VCALENDAR
VERSION:2.0
PRODID:-//ABS La Roca del Vallès - ECPv6.15.16//NONSGML v1.0//EN
CALSCALE:GREGORIAN
METHOD:PUBLISH
X-ORIGINAL-URL:https://absroca.consorci.org
X-WR-CALDESC:Esdeveniments per ABS La Roca del Vallès
REFRESH-INTERVAL;VALUE=DURATION:PT1H
X-Robots-Tag:noindex
X-PUBLISHED-TTL:PT1H
BEGIN:VTIMEZONE
TZID:Europe/Madrid
BEGIN:DAYLIGHT
TZOFFSETFROM:+0100
TZOFFSETTO:+0200
TZNAME:CEST
DTSTART:20220327T010000
END:DAYLIGHT
BEGIN:STANDARD
TZOFFSETFROM:+0200
TZOFFSETTO:+0100
TZNAME:CET
DTSTART:20221030T010000
END:STANDARD
BEGIN:DAYLIGHT
TZOFFSETFROM:+0100
TZOFFSETTO:+0200
TZNAME:CEST
DTSTART:20230326T010000
END:DAYLIGHT
BEGIN:STANDARD
TZOFFSETFROM:+0200
TZOFFSETTO:+0100
TZNAME:CET
DTSTART:20231029T010000
END:STANDARD
BEGIN:DAYLIGHT
TZOFFSETFROM:+0100
TZOFFSETTO:+0200
TZNAME:CEST
DTSTART:20240331T010000
END:DAYLIGHT
BEGIN:STANDARD
TZOFFSETFROM:+0200
TZOFFSETTO:+0100
TZNAME:CET
DTSTART:20241027T010000
END:STANDARD
END:VTIMEZONE
BEGIN:VEVENT
DTSTART;TZID=Europe/Madrid:20231002T100000
DTEND;TZID=Europe/Madrid:20231002T113000
DTSTAMP:20260420T180529
CREATED:20231010T141546Z
LAST-MODIFIED:20231019T084600Z
UID:10000066-1696240800-1696246200@absroca.consorci.org
SUMMARY:Grup d'envelliment saludable
DESCRIPTION:Impartit per William Diaz\, referent de benestar emocional comunitari (RBEC) de l’ABS La Roca del Vallès\, aquest grup està adreçat a persones de més de 55 anys que vulguin potenciar el seu estat emocional\, conèixer eines de protecció i rebre suport psicosocial. \nCada dilluns\, des del 2 d’octubre fins al 18 de desembre\, de 10 a 11.30 h al CAP La Roca del Vallès. \nPer fer la inscripció cal adreçar-se al taulell o a l’equip de professionals de referència. \nConsulta el cartell de les sessions aquí.
URL:https://absroca.consorci.org/activitat/grup-denvelliment-saludable/2023-10-02/
CATEGORIES:Activitats comunitàries,Agenda
ATTACH;FMTTYPE=image/png:https://absroca.consorci.org/wp-content/uploads/2023/10/MicrosoftTeams-image-9.png
END:VEVENT
BEGIN:VEVENT
DTSTART;TZID=Europe/Madrid:20231009T100000
DTEND;TZID=Europe/Madrid:20231009T113000
DTSTAMP:20260420T180529
CREATED:20231010T141546Z
LAST-MODIFIED:20231019T084600Z
UID:10000067-1696845600-1696851000@absroca.consorci.org
SUMMARY:Grup d'envelliment saludable
DESCRIPTION:Impartit per William Diaz\, referent de benestar emocional comunitari (RBEC) de l’ABS La Roca del Vallès\, aquest grup està adreçat a persones de més de 55 anys que vulguin potenciar el seu estat emocional\, conèixer eines de protecció i rebre suport psicosocial. \nCada dilluns\, des del 2 d’octubre fins al 18 de desembre\, de 10 a 11.30 h al CAP La Roca del Vallès. \nPer fer la inscripció cal adreçar-se al taulell o a l’equip de professionals de referència. \nConsulta el cartell de les sessions aquí.
URL:https://absroca.consorci.org/activitat/grup-denvelliment-saludable/2023-10-09/
CATEGORIES:Activitats comunitàries,Agenda
ATTACH;FMTTYPE=image/png:https://absroca.consorci.org/wp-content/uploads/2023/10/MicrosoftTeams-image-9.png
END:VEVENT
BEGIN:VEVENT
DTSTART;TZID=Europe/Madrid:20231010T100000
DTEND;TZID=Europe/Madrid:20231010T110000
DTSTAMP:20260420T180529
CREATED:20231010T144222Z
LAST-MODIFIED:20231010T144222Z
UID:10000083-1696932000-1696935600@absroca.consorci.org
SUMMARY:Taller per reduir el dolor cervical
DESCRIPTION:Impartit per Sara Pont\, fisioterapeuta comunitària\, aquest taller es basa en l’exercici terapèutic i la promoció d’hàbits saludables. Inclou una valoració inicial i una valoració final per part de la professional. \nAquesta activitat té lloc cada dimarts fins al 31 d’octubre\, de 10 h a 11:00 h\, al CAP La Roca del Vallès. \nPer fer la inscripció\, cal adreçar-se al taulell o a l’equip de professionals de referència. \nConsulta el cartell de les sessions aquí.
URL:https://absroca.consorci.org/activitat/taller-per-reduir-el-dolor-cervical/2023-10-10/
CATEGORIES:Activitats comunitàries,Agenda
ATTACH;FMTTYPE=image/png:https://absroca.consorci.org/wp-content/uploads/2023/10/MicrosoftTeams-image-11.png
END:VEVENT
BEGIN:VEVENT
DTSTART;TZID=Europe/Madrid:20231010T110000
DTEND;TZID=Europe/Madrid:20231010T120000
DTSTAMP:20260420T180529
CREATED:20231010T144758Z
LAST-MODIFIED:20231010T145131Z
UID:10000087-1696935600-1696939200@absroca.consorci.org
SUMMARY:Taller per enfortir la musculatura lumbar
DESCRIPTION:Impartit per Sara Pont\, fisioterapeuta comunitària\, aquest taller es basa en l’exercici terapèutic i la promoció d’hàbits saludables. Inclou una valoració inicial i una valoració final per part de la professional. \nAquesta activitat té lloc cada dimarts fins el 31 d’octubre\, d’11 h a 12:00 h\, al CAP La Roca del Vallès. \nPer fer la inscripció\, cal adreçar-se al taulell o a l’equip de professionals de referència. \nConsulta el cartell de les sessions aquí.
URL:https://absroca.consorci.org/activitat/taller-enfortir-musculatura-lumbar/2023-10-10/
CATEGORIES:Activitats comunitàries,Agenda
ATTACH;FMTTYPE=image/png:https://absroca.consorci.org/wp-content/uploads/2023/10/MicrosoftTeams-image-12.png
END:VEVENT
BEGIN:VEVENT
DTSTART;TZID=Europe/Madrid:20231016T100000
DTEND;TZID=Europe/Madrid:20231016T113000
DTSTAMP:20260420T180529
CREATED:20231010T141546Z
LAST-MODIFIED:20231019T084600Z
UID:10000068-1697450400-1697455800@absroca.consorci.org
SUMMARY:Grup d'envelliment saludable
DESCRIPTION:Impartit per William Diaz\, referent de benestar emocional comunitari (RBEC) de l’ABS La Roca del Vallès\, aquest grup està adreçat a persones de més de 55 anys que vulguin potenciar el seu estat emocional\, conèixer eines de protecció i rebre suport psicosocial. \nCada dilluns\, des del 2 d’octubre fins al 18 de desembre\, de 10 a 11.30 h al CAP La Roca del Vallès. \nPer fer la inscripció cal adreçar-se al taulell o a l’equip de professionals de referència. \nConsulta el cartell de les sessions aquí.
URL:https://absroca.consorci.org/activitat/grup-denvelliment-saludable/2023-10-16/
CATEGORIES:Activitats comunitàries,Agenda
ATTACH;FMTTYPE=image/png:https://absroca.consorci.org/wp-content/uploads/2023/10/MicrosoftTeams-image-9.png
END:VEVENT
BEGIN:VEVENT
DTSTART;TZID=Europe/Madrid:20231017T100000
DTEND;TZID=Europe/Madrid:20231017T110000
DTSTAMP:20260420T180529
CREATED:20231010T144222Z
LAST-MODIFIED:20231010T144222Z
UID:10000084-1697536800-1697540400@absroca.consorci.org
SUMMARY:Taller per reduir el dolor cervical
DESCRIPTION:Impartit per Sara Pont\, fisioterapeuta comunitària\, aquest taller es basa en l’exercici terapèutic i la promoció d’hàbits saludables. Inclou una valoració inicial i una valoració final per part de la professional. \nAquesta activitat té lloc cada dimarts fins al 31 d’octubre\, de 10 h a 11:00 h\, al CAP La Roca del Vallès. \nPer fer la inscripció\, cal adreçar-se al taulell o a l’equip de professionals de referència. \nConsulta el cartell de les sessions aquí.
URL:https://absroca.consorci.org/activitat/taller-per-reduir-el-dolor-cervical/2023-10-17/
CATEGORIES:Activitats comunitàries,Agenda
ATTACH;FMTTYPE=image/png:https://absroca.consorci.org/wp-content/uploads/2023/10/MicrosoftTeams-image-11.png
END:VEVENT
BEGIN:VEVENT
DTSTART;TZID=Europe/Madrid:20231017T110000
DTEND;TZID=Europe/Madrid:20231017T120000
DTSTAMP:20260420T180529
CREATED:20231010T144758Z
LAST-MODIFIED:20231010T145131Z
UID:10000088-1697540400-1697544000@absroca.consorci.org
SUMMARY:Taller per enfortir la musculatura lumbar
DESCRIPTION:Impartit per Sara Pont\, fisioterapeuta comunitària\, aquest taller es basa en l’exercici terapèutic i la promoció d’hàbits saludables. Inclou una valoració inicial i una valoració final per part de la professional. \nAquesta activitat té lloc cada dimarts fins el 31 d’octubre\, d’11 h a 12:00 h\, al CAP La Roca del Vallès. \nPer fer la inscripció\, cal adreçar-se al taulell o a l’equip de professionals de referència. \nConsulta el cartell de les sessions aquí.
URL:https://absroca.consorci.org/activitat/taller-enfortir-musculatura-lumbar/2023-10-17/
CATEGORIES:Activitats comunitàries,Agenda
ATTACH;FMTTYPE=image/png:https://absroca.consorci.org/wp-content/uploads/2023/10/MicrosoftTeams-image-12.png
END:VEVENT
BEGIN:VEVENT
DTSTART;TZID=Europe/Madrid:20231023T100000
DTEND;TZID=Europe/Madrid:20231023T113000
DTSTAMP:20260420T180529
CREATED:20231010T141546Z
LAST-MODIFIED:20231019T084600Z
UID:10000069-1698055200-1698060600@absroca.consorci.org
SUMMARY:Grup d'envelliment saludable
DESCRIPTION:Impartit per William Diaz\, referent de benestar emocional comunitari (RBEC) de l’ABS La Roca del Vallès\, aquest grup està adreçat a persones de més de 55 anys que vulguin potenciar el seu estat emocional\, conèixer eines de protecció i rebre suport psicosocial. \nCada dilluns\, des del 2 d’octubre fins al 18 de desembre\, de 10 a 11.30 h al CAP La Roca del Vallès. \nPer fer la inscripció cal adreçar-se al taulell o a l’equip de professionals de referència. \nConsulta el cartell de les sessions aquí.
URL:https://absroca.consorci.org/activitat/grup-denvelliment-saludable/2023-10-23/
CATEGORIES:Activitats comunitàries,Agenda
ATTACH;FMTTYPE=image/png:https://absroca.consorci.org/wp-content/uploads/2023/10/MicrosoftTeams-image-9.png
END:VEVENT
BEGIN:VEVENT
DTSTART;TZID=Europe/Madrid:20231024T100000
DTEND;TZID=Europe/Madrid:20231024T110000
DTSTAMP:20260420T180529
CREATED:20231010T144222Z
LAST-MODIFIED:20231010T144222Z
UID:10000085-1698141600-1698145200@absroca.consorci.org
SUMMARY:Taller per reduir el dolor cervical
DESCRIPTION:Impartit per Sara Pont\, fisioterapeuta comunitària\, aquest taller es basa en l’exercici terapèutic i la promoció d’hàbits saludables. Inclou una valoració inicial i una valoració final per part de la professional. \nAquesta activitat té lloc cada dimarts fins al 31 d’octubre\, de 10 h a 11:00 h\, al CAP La Roca del Vallès. \nPer fer la inscripció\, cal adreçar-se al taulell o a l’equip de professionals de referència. \nConsulta el cartell de les sessions aquí.
URL:https://absroca.consorci.org/activitat/taller-per-reduir-el-dolor-cervical/2023-10-24/
CATEGORIES:Activitats comunitàries,Agenda
ATTACH;FMTTYPE=image/png:https://absroca.consorci.org/wp-content/uploads/2023/10/MicrosoftTeams-image-11.png
END:VEVENT
BEGIN:VEVENT
DTSTART;TZID=Europe/Madrid:20231024T110000
DTEND;TZID=Europe/Madrid:20231024T120000
DTSTAMP:20260420T180529
CREATED:20231010T144758Z
LAST-MODIFIED:20231010T145131Z
UID:10000089-1698145200-1698148800@absroca.consorci.org
SUMMARY:Taller per enfortir la musculatura lumbar
DESCRIPTION:Impartit per Sara Pont\, fisioterapeuta comunitària\, aquest taller es basa en l’exercici terapèutic i la promoció d’hàbits saludables. Inclou una valoració inicial i una valoració final per part de la professional. \nAquesta activitat té lloc cada dimarts fins el 31 d’octubre\, d’11 h a 12:00 h\, al CAP La Roca del Vallès. \nPer fer la inscripció\, cal adreçar-se al taulell o a l’equip de professionals de referència. \nConsulta el cartell de les sessions aquí.
URL:https://absroca.consorci.org/activitat/taller-enfortir-musculatura-lumbar/2023-10-24/
CATEGORIES:Activitats comunitàries,Agenda
ATTACH;FMTTYPE=image/png:https://absroca.consorci.org/wp-content/uploads/2023/10/MicrosoftTeams-image-12.png
END:VEVENT
BEGIN:VEVENT
DTSTART;TZID=Europe/Madrid:20231030T100000
DTEND;TZID=Europe/Madrid:20231030T113000
DTSTAMP:20260420T180529
CREATED:20231010T141546Z
LAST-MODIFIED:20231019T084600Z
UID:10000070-1698660000-1698665400@absroca.consorci.org
SUMMARY:Grup d'envelliment saludable
DESCRIPTION:Impartit per William Diaz\, referent de benestar emocional comunitari (RBEC) de l’ABS La Roca del Vallès\, aquest grup està adreçat a persones de més de 55 anys que vulguin potenciar el seu estat emocional\, conèixer eines de protecció i rebre suport psicosocial. \nCada dilluns\, des del 2 d’octubre fins al 18 de desembre\, de 10 a 11.30 h al CAP La Roca del Vallès. \nPer fer la inscripció cal adreçar-se al taulell o a l’equip de professionals de referència. \nConsulta el cartell de les sessions aquí.
URL:https://absroca.consorci.org/activitat/grup-denvelliment-saludable/2023-10-30/
CATEGORIES:Activitats comunitàries,Agenda
ATTACH;FMTTYPE=image/png:https://absroca.consorci.org/wp-content/uploads/2023/10/MicrosoftTeams-image-9.png
END:VEVENT
BEGIN:VEVENT
DTSTART;TZID=Europe/Madrid:20231031T100000
DTEND;TZID=Europe/Madrid:20231031T110000
DTSTAMP:20260420T180529
CREATED:20231010T144222Z
LAST-MODIFIED:20231010T144222Z
UID:10000086-1698746400-1698750000@absroca.consorci.org
SUMMARY:Taller per reduir el dolor cervical
DESCRIPTION:Impartit per Sara Pont\, fisioterapeuta comunitària\, aquest taller es basa en l’exercici terapèutic i la promoció d’hàbits saludables. Inclou una valoració inicial i una valoració final per part de la professional. \nAquesta activitat té lloc cada dimarts fins al 31 d’octubre\, de 10 h a 11:00 h\, al CAP La Roca del Vallès. \nPer fer la inscripció\, cal adreçar-se al taulell o a l’equip de professionals de referència. \nConsulta el cartell de les sessions aquí.
URL:https://absroca.consorci.org/activitat/taller-per-reduir-el-dolor-cervical/2023-10-31/
CATEGORIES:Activitats comunitàries,Agenda
ATTACH;FMTTYPE=image/png:https://absroca.consorci.org/wp-content/uploads/2023/10/MicrosoftTeams-image-11.png
END:VEVENT
BEGIN:VEVENT
DTSTART;TZID=Europe/Madrid:20231031T110000
DTEND;TZID=Europe/Madrid:20231031T120000
DTSTAMP:20260420T180529
CREATED:20231010T144758Z
LAST-MODIFIED:20231010T145131Z
UID:10000090-1698750000-1698753600@absroca.consorci.org
SUMMARY:Taller per enfortir la musculatura lumbar
DESCRIPTION:Impartit per Sara Pont\, fisioterapeuta comunitària\, aquest taller es basa en l’exercici terapèutic i la promoció d’hàbits saludables. Inclou una valoració inicial i una valoració final per part de la professional. \nAquesta activitat té lloc cada dimarts fins el 31 d’octubre\, d’11 h a 12:00 h\, al CAP La Roca del Vallès. \nPer fer la inscripció\, cal adreçar-se al taulell o a l’equip de professionals de referència. \nConsulta el cartell de les sessions aquí.
URL:https://absroca.consorci.org/activitat/taller-enfortir-musculatura-lumbar/2023-10-31/
CATEGORIES:Activitats comunitàries,Agenda
ATTACH;FMTTYPE=image/png:https://absroca.consorci.org/wp-content/uploads/2023/10/MicrosoftTeams-image-12.png
END:VEVENT
END:VCALENDAR